BEGIN:VCALENDAR
VERSION:2.0
PRODID:-//nfapa.org//NONSGML kigkonsult.se iCalcreator 2.30.10//
CALSCALE:GREGORIAN
METHOD:PUBLISH
UID:8b2c2af1-89d1-4e71-b394-d98a8ff1e75e
X-WR-CALDESC:This is the fourth webinar in the 2021 Fall Webinar Series tit
 led Healing the Whole Child. \n\nThis training will provide a road map on 
 the path of health by following natural guidelines in maintaining the stru
 ctural\, nutritional and emotional health of our bodies and of our childre
 n. In this webinar\, Dr. Dority will discuss our nervous system\, from emb
 ryonic foundation and development\, and the essential nutritional requirem
 ents needed for creation of a healthy nervous system. \n\nYou will learn:
 \n\n 3 causes of a malfunctioning nervous system.\nMechanical and structur
 al stressors that directly affect the nervous system in birth process and 
 post birth.\nHow the health of the parents sperm and egg affect the health
  of a baby's nervous system.\nAn overview of proteins\, fats\, vitamins an
 d minerals essential for healthy nerve development and function.\nThis web
 inar is intended for all professions. \n\nAttendees will receive a certifi
 cate of attendance\, agenda\, and handouts.\n\nSpeaker: Dr. Michael Dority
 \, D.C.\n\nDr. Michael Dority is a graduate of Palmer College of Chiroprac
 tic. Now retired from his 44 years of chiropractic practice in Nebraska\, 
 he credits his professional success of supporting the patient’s nervous sy
 stem with Chiropractic care\, whole foods\, whole food supplements from St
 andard Process\, and the Neuro-Emotional Technique (NET). His passion is e
 ducating people to the benefits of natural healthcare.\n\nNE CLE Accredita
 tion approved for 1.0 credit hour. NE CLE activity #216376\n\nQuestions? E
 mail Melissa at mvillarreal4@unl.edu.
X-WR-RELCALID:4de38a9f5e2418d718685d28f75599b6
X-WR-TIMEZONE:America/Chicago
BEGIN:VTIMEZONE
TZID:America/Chicago
BEGIN:STANDARD
TZNAME:CST
DTSTART:20211107T020000
TZOFFSETFROM:-0500
TZOFFSETTO:-0600
RDATE:20221106T020000
END:STANDARD
BEGIN:DAYLIGHT
TZNAME:CDT
DTSTART:20210314T020000
TZOFFSETFROM:-0600
TZOFFSETTO:-0500
RDATE:20220313T020000
RDATE:20230312T020000
END:DAYLIGHT
END:VTIMEZONE
BEGIN:VEVENT
UID:0b393009-27b2-41f5-b35e-358dcb73c134
DTSTAMP:20260424T203746Z
DESCRIPTION:This is the fourth webinar in the 2021 Fall Webinar Series titl
 ed Healing the Whole Child. \n\nThis training will provide a road map on t
 he path of health by following natural guidelines in maintaining the struc
 tural\, nutritional and emotional health of our bodies and of our children
 . In this webinar\, Dr. Dority will discuss our nervous system\, from embr
 yonic foundation and development\, and the essential nutritional requireme
 nts needed for creation of a healthy nervous system. \n\nYou will learn:\n
 \n 3 causes of a malfunctioning nervous system.\nMechanical and structural
  stressors that directly affect the nervous system in birth process and po
 st birth.\nHow the health of the parents sperm and egg affect the health o
 f a baby's nervous system.\nAn overview of proteins\, fats\, vitamins and 
 minerals essential for healthy nerve development and function.\nThis webin
 ar is intended for all professions. \n\nAttendees will receive a certifica
 te of attendance\, agenda\, and handouts.\n\nSpeaker: Dr. Michael Dority\,
  D.C.\n\nDr. Michael Dority is a graduate of Palmer College of Chiropracti
 c. Now retired from his 44 years of chiropractic practice in Nebraska\, he
  credits his professional success of supporting the patient’s nervous syst
 em with Chiropractic care\, whole foods\, whole food supplements from Stan
 dard Process\, and the Neuro-Emotional Technique (NET). His passion is edu
 cating people to the benefits of natural healthcare.\n\nNE CLE Accreditati
 on approved for 1.0 credit hour. NE CLE activity #216376\n\nQuestions? Ema
 il Melissa at mvillarreal4@unl.edu.
DTSTART;TZID=America/Chicago:20211103T120000
DTEND;TZID=America/Chicago:20211103T130000
LOCATION:Virtual
SUMMARY:How Physical\, Bio-Chemical\, and Emotional Stressors Affect the Ne
 rvous System and Our Overall Health
END:VEVENT
END:VCALENDAR
