BEGIN:VCALENDAR
VERSION:2.0
PRODID:-//nfapa.org//NONSGML kigkonsult.se iCalcreator 2.30.10//
CALSCALE:GREGORIAN
METHOD:PUBLISH
UID:6ed55052-337e-425b-ac45-8f81716b4a01
X-WR-CALDESC:Due to COVID\, Support Group will be virtual at this time.  \n
 \nPlease contact Tammy to register.
X-WR-RELCALID:b15a7c80d4db479269dcd0065440ae3e
X-WR-TIMEZONE:America/Chicago
BEGIN:VTIMEZONE
TZID:America/Chicago
BEGIN:STANDARD
TZNAME:CST
DTSTART:20211107T020000
TZOFFSETFROM:-0500
TZOFFSETTO:-0600
RDATE:20221106T020000
END:STANDARD
BEGIN:DAYLIGHT
TZNAME:CDT
DTSTART:20210314T020000
TZOFFSETFROM:-0600
TZOFFSETTO:-0500
RDATE:20220313T020000
RDATE:20230312T020000
END:DAYLIGHT
END:VTIMEZONE
BEGIN:VEVENT
UID:537c2afc-2d20-49ba-9c90-1b748e5e339e
DTSTAMP:20260422T105349Z
DESCRIPTION:Due to COVID\, Support Group will be virtual at this time.  \n
 \nPlease contact Tammy to register.
DTSTART;TZID=America/Chicago:20211214T190000
DTEND;TZID=America/Chicago:20211214T203000
LOCATION:Virtual
SUMMARY:Columbus Support Group
END:VEVENT
END:VCALENDAR
