BEGIN:VCALENDAR
VERSION:2.0
PRODID:-//nfapa.org//NONSGML kigkonsult.se iCalcreator 2.30.10//
CALSCALE:GREGORIAN
METHOD:PUBLISH
UID:6409a503-595d-45c9-b43d-170a6a3fb662
X-WR-CALDESC:
X-WR-RELCALID:026a341ab5e49c8ddf702f762ae85424
X-WR-TIMEZONE:America/Chicago
BEGIN:VTIMEZONE
TZID:America/Chicago
BEGIN:STANDARD
TZNAME:CST
DTSTART:20241103T020000
TZOFFSETFROM:-0500
TZOFFSETTO:-0600
RDATE:20251102T020000
RDATE:20261101T020000
END:STANDARD
BEGIN:DAYLIGHT
TZNAME:CDT
DTSTART:20250309T020000
TZOFFSETFROM:-0600
TZOFFSETTO:-0500
RDATE:20260308T020000
END:DAYLIGHT
END:VTIMEZONE
BEGIN:VEVENT
UID:aa16610e-055b-4e20-b464-2d8e18cc8fa3
DTSTAMP:20260420T211335Z
DESCRIPTION:
DTSTART;TZID=America/Chicago:20250901T050000
DTEND;TZID=America/Chicago:20250901T050001
LOCATION:
SUMMARY:NFAPA Office Closed
END:VEVENT
END:VCALENDAR
