BEGIN:VCALENDAR
VERSION:2.0
PRODID:-//nfapa.org//NONSGML kigkonsult.se iCalcreator 2.30.10//
CALSCALE:GREGORIAN
METHOD:PUBLISH
UID:aff1ccd1-6615-424b-b29c-e232f79b9fef
X-WR-CALDESC:Virtual: by Zoom. You must register to attend. You will receiv
 e the Zoom link a few days before the training.\nThis training helps parti
 cipants recognize that behavioral outbursts in young people often follow a
  predictable pattern known as the arc of escalation. By understanding this
  arc—beginning with initial triggers and progressing to a full-blown crisi
 s—caregivers and professionals can learn to anticipate behaviors\, interve
 ne early\, and respond effectively at each stage.\n \nParticipants will ga
 in insight into the key stages of escalation\, learn the importance of ear
 ly intervention\, and explore strategies for managing behavior during and 
 after a crisis. The training emphasizes practical de-escalation techniques
 \, effective communication strategies\, and maintaining safety and control
 . By mastering these skills\, participants can defuse potentially volatile
  situations\, reduce harm\, and create more positive outcomes in both pers
 onal and professional environments.\n
X-WR-RELCALID:25052bda6fdb7ca78474372d3bf3285d
X-WR-TIMEZONE:America/Chicago
BEGIN:VTIMEZONE
TZID:America/Chicago
BEGIN:STANDARD
TZNAME:CST
DTSTART:20241103T020000
TZOFFSETFROM:-0500
TZOFFSETTO:-0600
RDATE:20251102T020000
RDATE:20261101T020000
END:STANDARD
BEGIN:DAYLIGHT
TZNAME:CDT
DTSTART:20250309T020000
TZOFFSETFROM:-0600
TZOFFSETTO:-0500
RDATE:20260308T020000
RDATE:20270314T020000
END:DAYLIGHT
END:VTIMEZONE
BEGIN:VEVENT
UID:b9e08117-d73d-4323-91da-1b8b5b2c64ee
DTSTAMP:20260420T213319Z
DESCRIPTION:Virtual: by Zoom. You must register to attend. You will receive
  the Zoom link a few days before the training.\nThis training helps partic
 ipants recognize that behavioral outbursts in young people often follow a 
 predictable pattern known as the arc of escalation. By understanding this 
 arc—beginning with initial triggers and progressing to a full-blown crisis
 —caregivers and professionals can learn to anticipate behaviors\, interven
 e early\, and respond effectively at each stage.\n \nParticipants will gai
 n insight into the key stages of escalation\, learn the importance of earl
 y intervention\, and explore strategies for managing behavior during and a
 fter a crisis. The training emphasizes practical de-escalation techniques\
 , effective communication strategies\, and maintaining safety and control.
  By mastering these skills\, participants can defuse potentially volatile 
 situations\, reduce harm\, and create more positive outcomes in both perso
 nal and professional environments.\n
DTSTART;TZID=America/Chicago:20250913T090000
DTEND;TZID=America/Chicago:20250913T110000
LOCATION:
SUMMARY:Virtual In-Service Training:  De-escalation Training:  Understandin
 g the Arc of Escalating Behaviors by Jaclyn Kodosky from Families Rising
END:VEVENT
END:VCALENDAR
