BEGIN:VCALENDAR
VERSION:2.0
PRODID:-//nfapa.org//NONSGML kigkonsult.se iCalcreator 2.30.10//
CALSCALE:GREGORIAN
METHOD:PUBLISH
UID:7670c84a-d687-4b78-839d-9307e4afd37b
X-WR-CALDESC:
X-WR-RELCALID:1a268a02ff9a169495d335a06521cb49
X-WR-TIMEZONE:America/Chicago
BEGIN:VTIMEZONE
TZID:America/Chicago
BEGIN:STANDARD
TZNAME:CST
DTSTART:20241103T020000
TZOFFSETFROM:-0500
TZOFFSETTO:-0600
RDATE:20251102T020000
RDATE:20261101T020000
END:STANDARD
BEGIN:DAYLIGHT
TZNAME:CDT
DTSTART:20250309T020000
TZOFFSETFROM:-0600
TZOFFSETTO:-0500
RDATE:20260308T020000
RDATE:20270314T020000
END:DAYLIGHT
END:VTIMEZONE
BEGIN:VEVENT
UID:64ce3451-84a8-464a-9c1e-f1d9de4ee938
DTSTAMP:20260420T193302Z
DESCRIPTION:
DTSTART;TZID=America/Chicago:20251013T050000
DTEND;TZID=America/Chicago:20251013T050001
LOCATION:
SUMMARY:NFAPA Office Closed
END:VEVENT
END:VCALENDAR
