BEGIN:VCALENDAR
VERSION:2.0
PRODID:-//nfapa.org//NONSGML kigkonsult.se iCalcreator 2.30.10//
CALSCALE:GREGORIAN
METHOD:PUBLISH
UID:dff6d57a-34c5-40f1-8998-f438dd4ce847
X-WR-CALDESC:Virtual: by Zoom. You must register to attend. You will receiv
 e the Zoom link a few days before the training.\n\nAdverse Childhood Exper
 iences\, or ACEs\, is a term used to describe stressful or traumatic event
 s experienced by an individual before the age of 18. ACEs can have a lasti
 ng effect on health and well-being for children and adults\, including hig
 her risk of chronic disease. However\, ACEs can be prevented\, and their e
 ffects can be lessened. In this training\, you will learn about ACEs and t
 he brain\, acquire practical strategies for building resilience and improv
 ing wellness\, and learn techniques for creating positive environments in 
 your homes.
X-WR-RELCALID:7b8a3b96b8695af787155079af5ac337
X-WR-TIMEZONE:America/Chicago
BEGIN:VTIMEZONE
TZID:America/Chicago
BEGIN:STANDARD
TZNAME:CST
DTSTART:20251102T020000
TZOFFSETFROM:-0500
TZOFFSETTO:-0600
RDATE:20261101T020000
END:STANDARD
BEGIN:DAYLIGHT
TZNAME:CDT
DTSTART:20250309T020000
TZOFFSETFROM:-0600
TZOFFSETTO:-0500
RDATE:20260308T020000
RDATE:20270314T020000
END:DAYLIGHT
END:VTIMEZONE
BEGIN:VEVENT
UID:bb277ec7-2153-484b-9dc4-552ce0844486
DTSTAMP:20260420T182600Z
DESCRIPTION:Virtual: by Zoom. You must register to attend. You will receive
  the Zoom link a few days before the training.\n\nAdverse Childhood Experi
 ences\, or ACEs\, is a term used to describe stressful or traumatic events
  experienced by an individual before the age of 18. ACEs can have a lastin
 g effect on health and well-being for children and adults\, including high
 er risk of chronic disease. However\, ACEs can be prevented\, and their ef
 fects can be lessened. In this training\, you will learn about ACEs and th
 e brain\, acquire practical strategies for building resilience and improvi
 ng wellness\, and learn techniques for creating positive environments in y
 our homes.
DTSTART;TZID=America/Chicago:20251115T090000
DTEND;TZID=America/Chicago:20251115T110000
LOCATION:
SUMMARY:Virtual In-Service Training:  Raising Resilient Children with Libby
  Valerio-Boster & Sarah Dankenbring from BraveBe
END:VEVENT
END:VCALENDAR
