BEGIN:VCALENDAR
VERSION:2.0
PRODID:-//nfapa.org//NONSGML kigkonsult.se iCalcreator 2.30.10//
CALSCALE:GREGORIAN
METHOD:PUBLISH
UID:bfb55639-a5b0-46c8-974b-dd3a7bf87d90
X-WR-CALDESC:
X-WR-RELCALID:2edfdfde7e2e25bdf832ce64df696067
X-WR-TIMEZONE:America/Chicago
BEGIN:VTIMEZONE
TZID:America/Chicago
BEGIN:STANDARD
TZNAME:CST
DTSTART:20251102T020000
TZOFFSETFROM:-0500
TZOFFSETTO:-0600
RDATE:20261101T020000
END:STANDARD
BEGIN:DAYLIGHT
TZNAME:CDT
DTSTART:20250309T020000
TZOFFSETFROM:-0600
TZOFFSETTO:-0500
RDATE:20260308T020000
RDATE:20270314T020000
END:DAYLIGHT
END:VTIMEZONE
BEGIN:VEVENT
UID:66a31aca-299c-47b2-9e9a-6b082c388fdd
DTSTAMP:20260420T180829Z
DESCRIPTION:
DTSTART;TZID=America/Chicago:20251127T050000
DTEND;TZID=America/Chicago:20251128T050001
LOCATION:
SUMMARY:NFAPA Office Closed
END:VEVENT
END:VCALENDAR
