BEGIN:VCALENDAR
VERSION:2.0
PRODID:-//nfapa.org//NONSGML kigkonsult.se iCalcreator 2.30.10//
CALSCALE:GREGORIAN
METHOD:PUBLISH
UID:680b1c1b-2c77-4ae8-94bf-87579bab65f0
X-WR-CALDESC:
X-WR-RELCALID:2a55dd4f190dfce3c92e0f48f89a0aac
X-WR-TIMEZONE:America/Chicago
BEGIN:VTIMEZONE
TZID:America/Chicago
BEGIN:STANDARD
TZNAME:CST
DTSTART:20251102T020000
TZOFFSETFROM:-0500
TZOFFSETTO:-0600
RDATE:20261101T020000
END:STANDARD
BEGIN:DAYLIGHT
TZNAME:CDT
DTSTART:20250309T020000
TZOFFSETFROM:-0600
TZOFFSETTO:-0500
RDATE:20260308T020000
RDATE:20270314T020000
END:DAYLIGHT
END:VTIMEZONE
BEGIN:VEVENT
UID:e43d45d2-abfc-47c5-b1c6-5498383c63ec
DTSTAMP:20260420T163725Z
DESCRIPTION:
DTSTART;TZID=America/Chicago:20251224T050000
DTEND;TZID=America/Chicago:20251226T050001
LOCATION:
SUMMARY:NFAPA Office Closed
END:VEVENT
END:VCALENDAR
