BEGIN:VCALENDAR
VERSION:2.0
PRODID:-//nfapa.org//NONSGML kigkonsult.se iCalcreator 2.30.10//
CALSCALE:GREGORIAN
METHOD:PUBLISH
UID:79383b5e-96cb-460d-bcd4-aa68810d5aad
X-WR-CALDESC:
X-WR-RELCALID:5393b33a155a036cfba52378e1655d5f
X-WR-TIMEZONE:America/Chicago
BEGIN:VTIMEZONE
TZID:America/Chicago
BEGIN:STANDARD
TZNAME:CST
DTSTART:20251102T020000
TZOFFSETFROM:-0500
TZOFFSETTO:-0600
RDATE:20261101T020000
END:STANDARD
BEGIN:DAYLIGHT
TZNAME:CDT
DTSTART:20250309T020000
TZOFFSETFROM:-0600
TZOFFSETTO:-0500
RDATE:20260308T020000
RDATE:20270314T020000
END:DAYLIGHT
END:VTIMEZONE
BEGIN:VEVENT
UID:e70b9bf0-505b-46e3-adbe-365d78ec5d13
DTSTAMP:20260420T163821Z
DESCRIPTION:
DTSTART;TZID=America/Chicago:20251231T000000
DTEND;TZID=America/Chicago:20251231T235900
LOCATION:
SUMMARY:NFAPA Office Closed
END:VEVENT
END:VCALENDAR
