BEGIN:VCALENDAR
VERSION:2.0
PRODID:-//nfapa.org//NONSGML kigkonsult.se iCalcreator 2.30.10//
CALSCALE:GREGORIAN
METHOD:PUBLISH
UID:841b6232-0da9-400f-b2e1-8083c71fc28b
X-WR-CALDESC:Virtual: by Zoom. You must register to attend. You will receiv
 e the Zoom link a few days before the training.\nThis course provides pare
 nts and caregivers the chance to learn about how their own trauma historie
 s and adverse experiences might impact their parenting journey. Participan
 ts will learn the challenges that a trauma history may present in parentin
 g\, discuss strategies for parenting while facing these challenges\, and l
 earn how to maintain a regulated emotional and physical state.
X-WR-RELCALID:15998e42a7b447694e16f4dd50ef6619
X-WR-TIMEZONE:America/Chicago
BEGIN:VTIMEZONE
TZID:America/Chicago
BEGIN:STANDARD
TZNAME:CST
DTSTART:20251102T020000
TZOFFSETFROM:-0500
TZOFFSETTO:-0600
RDATE:20261101T020000
END:STANDARD
BEGIN:DAYLIGHT
TZNAME:CDT
DTSTART:20250309T020000
TZOFFSETFROM:-0600
TZOFFSETTO:-0500
RDATE:20260308T020000
RDATE:20270314T020000
END:DAYLIGHT
END:VTIMEZONE
BEGIN:VEVENT
UID:85475cac-7646-4d13-b0c3-a17eda235450
DTSTAMP:20260420T152102Z
DESCRIPTION:Virtual: by Zoom. You must register to attend. You will receive
  the Zoom link a few days before the training.\nThis course provides paren
 ts and caregivers the chance to learn about how their own trauma histories
  and adverse experiences might impact their parenting journey. Participant
 s will learn the challenges that a trauma history may present in parenting
 \, discuss strategies for parenting while facing these challenges\, and le
 arn how to maintain a regulated emotional and physical state.
DTSTART;TZID=America/Chicago:20260124T090000
DTEND;TZID=America/Chicago:20260124T110000
LOCATION:
SUMMARY:Virtual In-Service Training:  Raising Resilient Children with Libby
  Valerio-Boster from BraveBe
END:VEVENT
END:VCALENDAR
