BEGIN:VCALENDAR
VERSION:2.0
PRODID:-//nfapa.org//NONSGML kigkonsult.se iCalcreator 2.30.10//
CALSCALE:GREGORIAN
METHOD:PUBLISH
UID:9302fb95-4f92-4052-ad33-af175245900c
X-WR-CALDESC:Virtual: by Zoom. You must register to attend. You will receiv
 e the Zoom link a few days before the training.\n\nThis training provides 
 an overview of ADHD alongside guidance on transition planning.  You will l
 earn about recognizing ADHD symptoms and strategies for supporting student
 s with ADHD in schools. Additionally\, you will learn how to use transitio
 n checklists\, understand updates to transition-age IEPs\, and identify wh
 en to engage community partners and agencies to support youth through key 
 life transitions.
X-WR-RELCALID:53c03866c7b694cec27688f78fcc2298
X-WR-TIMEZONE:America/Chicago
BEGIN:VTIMEZONE
TZID:America/Chicago
BEGIN:STANDARD
TZNAME:CST
DTSTART:20251102T020000
TZOFFSETFROM:-0500
TZOFFSETTO:-0600
RDATE:20261101T020000
END:STANDARD
BEGIN:DAYLIGHT
TZNAME:CDT
DTSTART:20250309T020000
TZOFFSETFROM:-0600
TZOFFSETTO:-0500
RDATE:20260308T020000
RDATE:20270314T020000
END:DAYLIGHT
END:VTIMEZONE
BEGIN:VEVENT
UID:f3c52b5e-d424-4d76-b042-cc9d8ac0e5c0
DTSTAMP:20260420T133514Z
DESCRIPTION:Virtual: by Zoom. You must register to attend. You will receive
  the Zoom link a few days before the training.\n\nThis training provides a
 n overview of ADHD alongside guidance on transition planning.  You will le
 arn about recognizing ADHD symptoms and strategies for supporting students
  with ADHD in schools. Additionally\, you will learn how to use transition
  checklists\, understand updates to transition-age IEPs\, and identify whe
 n to engage community partners and agencies to support youth through key l
 ife transitions.
DTSTART;TZID=America/Chicago:20260207T090000
DTEND;TZID=America/Chicago:20260207T110000
LOCATION:
SUMMARY:Virtual In-Service Training:  Understanding ADHD and Navigating Tra
 nsition Timelines with Cami Bergman M.Ed. from PTI Nebraska
END:VEVENT
END:VCALENDAR
