BEGIN:VCALENDAR
VERSION:2.0
PRODID:-//nfapa.org//NONSGML kigkonsult.se iCalcreator 2.30.10//
CALSCALE:GREGORIAN
METHOD:PUBLISH
UID:2c5cb3cf-4151-46e1-91f6-b2a4aca28b06
X-WR-CALDESC:This pre-service training will be conducted online.\nRegistrat
 ion is required with all paperwork completed and cleared to attend trainin
 g.\n\nThis curriculum is the next step in becoming foster or adoptive pare
 nts. You and your spouse\, if you are married\, must complete all sessions
  of training to be considered for foster parent licensure.\n\nParticipants
  MUST start at Session 1 and complete all sessions. Class size is limited 
 and fills quickly.\n\nAttending the class does not ensure licensure.\n\nNO
 TE:  You must be on camera and prefer you are on a computer vs phone/table
 t.
X-WR-RELCALID:4af8dd918d2bc6a5196be94bb8ff1107
X-WR-TIMEZONE:America/Chicago
BEGIN:VTIMEZONE
TZID:America/Chicago
BEGIN:STANDARD
TZNAME:CST
DTSTART:20251102T020000
TZOFFSETFROM:-0500
TZOFFSETTO:-0600
RDATE:20261101T020000
END:STANDARD
BEGIN:DAYLIGHT
TZNAME:CDT
DTSTART:20250309T020000
TZOFFSETFROM:-0600
TZOFFSETTO:-0500
RDATE:20260308T020000
RDATE:20270314T020000
END:DAYLIGHT
END:VTIMEZONE
BEGIN:VEVENT
UID:076650f2-219d-4db2-8201-3b8f8f85d97d
DTSTAMP:20260420T120816Z
DESCRIPTION:This pre-service training will be conducted online.\nRegistrati
 on is required with all paperwork completed and cleared to attend training
 .\n\nThis curriculum is the next step in becoming foster or adoptive paren
 ts. You and your spouse\, if you are married\, must complete all sessions 
 of training to be considered for foster parent licensure.\n\nParticipants 
 MUST start at Session 1 and complete all sessions. Class size is limited a
 nd fills quickly.\n\nAttending the class does not ensure licensure.\n\nNOT
 E:  You must be on camera and prefer you are on a computer vs phone/tablet
 .
DTSTART;TZID=America/Chicago:20260306T130000
DTEND;TZID=America/Chicago:20260306T160000
LOCATION:
SUMMARY:Virtual Friday Afternoon NTDC Foster Parent Pre-Service Training Fe
 bruary 6- March 20\, 2026
END:VEVENT
END:VCALENDAR
