BEGIN:VCALENDAR
VERSION:2.0
PRODID:-//nfapa.org//NONSGML kigkonsult.se iCalcreator 2.30.10//
CALSCALE:GREGORIAN
METHOD:PUBLISH
UID:6d42b4ce-8891-437b-b81c-54efbba9576c
X-WR-CALDESC:Virtual: by Zoom. You must register to attend. You will receiv
 e the Zoom link a few days before the training.\n\nClaiming the adoption t
 ax credit this year? Learn what the recent changes to the credit mean for 
 you!  Families Rising’s adoption tax credit expert\, Josh Kroll\, presents
  a webinar on the federal adoption tax credit outlining the steps to file.
    The focus is on filing for the 2025 tax year\, but also covers applying
  for the credit for adoptions as far back as 2020. Josh explains how more 
 parents will benefit with the 2025 changes and what parents need to do to 
 take advantage of the credit.
X-WR-RELCALID:8e54ac949a613fd004b75798cdd7af18
X-WR-TIMEZONE:America/Chicago
BEGIN:VTIMEZONE
TZID:America/Chicago
BEGIN:STANDARD
TZNAME:CST
DTSTART:20251102T020000
TZOFFSETFROM:-0500
TZOFFSETTO:-0600
RDATE:20261101T020000
END:STANDARD
BEGIN:DAYLIGHT
TZNAME:CDT
DTSTART:20250309T020000
TZOFFSETFROM:-0600
TZOFFSETTO:-0500
RDATE:20260308T020000
RDATE:20270314T020000
END:DAYLIGHT
END:VTIMEZONE
BEGIN:VEVENT
UID:5607c9a2-0193-4cbd-bd5d-e7b8ee9f410d
DTSTAMP:20260420T120937Z
DESCRIPTION:Virtual: by Zoom. You must register to attend. You will receive
  the Zoom link a few days before the training.\n\nClaiming the adoption ta
 x credit this year? Learn what the recent changes to the credit mean for y
 ou!  Families Rising’s adoption tax credit expert\, Josh Kroll\, presents 
 a webinar on the federal adoption tax credit outlining the steps to file. 
   The focus is on filing for the 2025 tax year\, but also covers applying 
 for the credit for adoptions as far back as 2020. Josh explains how more p
 arents will benefit with the 2025 changes and what parents need to do to t
 ake advantage of the credit.
DTSTART;TZID=America/Chicago:20260307T050000
DTEND;TZID=America/Chicago:20260307T050001
LOCATION:
SUMMARY:Virtual In-Service Training: Adoption Tax Credit and Claiming your 
 Foster Child by Josh Kroll\, Families Rising
END:VEVENT
END:VCALENDAR
