BEGIN:VCALENDAR
VERSION:2.0
PRODID:-//nfapa.org//NONSGML kigkonsult.se iCalcreator 2.30.10//
CALSCALE:GREGORIAN
METHOD:PUBLISH
UID:72770b27-856a-4e31-a50e-a9dc592c741e
X-WR-CALDESC:Support & Training for Relative & Kinship Foster Families.\nRS
 VP required.\n2 families must register otherwise it will be cancelled.  \n
 It meets in Kearney in May and July 2026.
X-WR-RELCALID:a1f7669ee7e3316146d3cdeacb1e636f
X-WR-TIMEZONE:America/Chicago
BEGIN:VTIMEZONE
TZID:America/Chicago
BEGIN:STANDARD
TZNAME:CST
DTSTART:20251102T020000
TZOFFSETFROM:-0500
TZOFFSETTO:-0600
RDATE:20261101T020000
RDATE:20271107T020000
END:STANDARD
BEGIN:DAYLIGHT
TZNAME:CDT
DTSTART:20260308T020000
TZOFFSETFROM:-0600
TZOFFSETTO:-0500
RDATE:20270314T020000
END:DAYLIGHT
END:VTIMEZONE
BEGIN:VEVENT
UID:6bdbcf77-715b-4138-a577-59c52c106dd7
DTSTAMP:20260420T151628Z
DESCRIPTION:Support & Training for Relative & Kinship Foster Families.\nRSV
 P required.\n2 families must register otherwise it will be cancelled.  \nI
 t meets in Kearney in May and July 2026.
DTSTART;TZID=America/Chicago:20260703T190000
DTEND;TZID=America/Chicago:20260703T203000
LOCATION:
SUMMARY:In-Person Foster Parent Support Group for Kinship and Relative Fami
 lies--Kearney
END:VEVENT
END:VCALENDAR
