BEGIN:VCALENDAR
VERSION:2.0
PRODID:-//nfapa.org//NONSGML kigkonsult.se iCalcreator 2.30.10//
CALSCALE:GREGORIAN
METHOD:PUBLISH
UID:2777bc0f-b911-4bf5-afcd-cb865ce82c5c
X-WR-CALDESC:Support & Training for Relative & Kinship Foster Families.\nRS
 VP required.\n2 families must register otherwise it will be cancelled.  \n
 It meets in Scottsbluff in June and August 2026.
X-WR-RELCALID:2abcb952bbe002ff1477d87aecfcc2c6
X-WR-TIMEZONE:America/Denver
BEGIN:VTIMEZONE
TZID:America/Denver
BEGIN:STANDARD
TZNAME:MST
DTSTART:20251102T020000
TZOFFSETFROM:-0600
TZOFFSETTO:-0700
RDATE:20261101T020000
RDATE:20271107T020000
END:STANDARD
BEGIN:DAYLIGHT
TZNAME:MDT
DTSTART:20260308T020000
TZOFFSETFROM:-0700
TZOFFSETTO:-0600
RDATE:20270314T020000
END:DAYLIGHT
END:VTIMEZONE
BEGIN:VEVENT
UID:fcfcfd60-4e34-4db2-a552-295b1962cb66
DTSTAMP:20260420T163657Z
DESCRIPTION:Support & Training for Relative & Kinship Foster Families.\nRSV
 P required.\n2 families must register otherwise it will be cancelled.  \nI
 t meets in Scottsbluff in June and August 2026.
DTSTART;TZID=America/Denver:20260807T190000
DTEND;TZID=America/Denver:20260807T203000
LOCATION:
SUMMARY:In-Person Foster Parent Support Group for Kinship and Relative Fami
 lies--Scottsbluff (7:00 pm-8:30 pm MT)
END:VEVENT
END:VCALENDAR
