BEGIN:VCALENDAR
VERSION:2.0
PRODID:-//nfapa.org//NONSGML kigkonsult.se iCalcreator 2.30.10//
CALSCALE:GREGORIAN
METHOD:PUBLISH
UID:0321e6a7-73fa-40bc-bd79-eb4212388961
X-WR-CALDESC:This is a foster parent & adoptive parent support group.  \nYo
 u must contact Vicki for the Zoom link.  \nTraining & Support
X-WR-RELCALID:d15e722eb4db9b94b114ed667a4d9f10
X-WR-TIMEZONE:America/Chicago
BEGIN:VTIMEZONE
TZID:America/Chicago
BEGIN:STANDARD
TZNAME:CST
DTSTART:20251102T020000
TZOFFSETFROM:-0500
TZOFFSETTO:-0600
RDATE:20261101T020000
RDATE:20271107T020000
END:STANDARD
BEGIN:DAYLIGHT
TZNAME:CDT
DTSTART:20260308T020000
TZOFFSETFROM:-0600
TZOFFSETTO:-0500
RDATE:20270314T020000
END:DAYLIGHT
END:VTIMEZONE
BEGIN:VEVENT
UID:b39045eb-6af9-4bd6-bcb2-184c8c16e478
DTSTAMP:20260420T163657Z
DESCRIPTION:This is a foster parent & adoptive parent support group.  \nYou
  must contact Vicki for the Zoom link.  \nTraining & Support
DTSTART;TZID=America/Chicago:20260813T183000
DTEND;TZID=America/Chicago:20260813T200000
LOCATION:
SUMMARY:Virtual Foster Parent Support Group:  Zoom
END:VEVENT
END:VCALENDAR
