BEGIN:VCALENDAR
VERSION:2.0
PRODID:-//nfapa.org//NONSGML kigkonsult.se iCalcreator 2.30.10//
CALSCALE:GREGORIAN
METHOD:PUBLISH
UID:d7e86061-05d1-4cc1-91be-94d995bd1e5c
X-WR-CALDESC:This is a closed chat for current foster parents or adoptive p
 arents only.  \nYou must have a Facebook account.\nContact Robbi for furth
 er information.
X-WR-RELCALID:c2117031c6a175315bcd3b5bf70273ad
X-WR-TIMEZONE:America/Chicago
BEGIN:VTIMEZONE
TZID:America/Chicago
BEGIN:STANDARD
TZNAME:CST
DTSTART:20261101T020000
TZOFFSETFROM:-0500
TZOFFSETTO:-0600
RDATE:20271107T020000
END:STANDARD
BEGIN:DAYLIGHT
TZNAME:CDT
DTSTART:20260308T020000
TZOFFSETFROM:-0600
TZOFFSETTO:-0500
RDATE:20270314T020000
RDATE:20280312T020000
END:DAYLIGHT
END:VTIMEZONE
BEGIN:VEVENT
UID:6c42772a-8780-4f98-a65e-da2f5d009c05
DTSTAMP:20260421T001811Z
DESCRIPTION:This is a closed chat for current foster parents or adoptive pa
 rents only.  \nYou must have a Facebook account.\nContact Robbi for furthe
 r information.
DTSTART;TZID=America/Chicago:20270112T210000
DTEND;TZID=America/Chicago:20270112T220000
LOCATION:
SUMMARY:FACES:  Online Foster Parent Support Group Chat on Facebook
END:VEVENT
END:VCALENDAR
