BEGIN:VCALENDAR
VERSION:2.0
PRODID:-//nfapa.org//NONSGML kigkonsult.se iCalcreator 2.30.10//
CALSCALE:GREGORIAN
METHOD:PUBLISH
UID:5bc8f167-6b08-42a4-b8f1-84e7b6cacb4d
X-WR-CALDESC:This is a closed chat for current foster parents or adoptive p
 arents only.  \nYou must have a Facebook account.\nContact Robbi for furth
 er information.
X-WR-RELCALID:14b89aa0d9f726ad988518444e1f9a36
X-WR-TIMEZONE:America/Chicago
BEGIN:VTIMEZONE
TZID:America/Chicago
BEGIN:STANDARD
TZNAME:CST
DTSTART:20261101T020000
TZOFFSETFROM:-0500
TZOFFSETTO:-0600
RDATE:20271107T020000
END:STANDARD
BEGIN:DAYLIGHT
TZNAME:CDT
DTSTART:20260308T020000
TZOFFSETFROM:-0600
TZOFFSETTO:-0500
RDATE:20270314T020000
RDATE:20280312T020000
END:DAYLIGHT
END:VTIMEZONE
BEGIN:VEVENT
UID:32c6624d-4b84-46bf-a4ef-b69e22711d36
DTSTAMP:20260421T015902Z
DESCRIPTION:This is a closed chat for current foster parents or adoptive pa
 rents only.  \nYou must have a Facebook account.\nContact Robbi for furthe
 r information.
DTSTART;TZID=America/Chicago:20270216T210000
DTEND;TZID=America/Chicago:20270216T220000
LOCATION:
SUMMARY:FACES:  Online Foster Parent Support Group Chat on Facebook
END:VEVENT
END:VCALENDAR
