BEGIN:VCALENDAR
VERSION:2.0
PRODID:-//nfapa.org//NONSGML kigkonsult.se iCalcreator 2.30.10//
CALSCALE:GREGORIAN
METHOD:PUBLISH
UID:d60ffd28-1876-442a-878b-a3fbedd2406c
X-WR-CALDESC:
X-WR-RELCALID:e17d01ed7a132499d92ee6b2004a99c3
X-WR-TIMEZONE:America/Chicago
BEGIN:VTIMEZONE
TZID:America/Chicago
BEGIN:STANDARD
TZNAME:CST
DTSTART:20271107T020000
TZOFFSETFROM:-0500
TZOFFSETTO:-0600
RDATE:20281105T020000
END:STANDARD
BEGIN:DAYLIGHT
TZNAME:CDT
DTSTART:20270314T020000
TZOFFSETFROM:-0600
TZOFFSETTO:-0500
RDATE:20280312T020000
RDATE:20290311T020000
END:DAYLIGHT
END:VTIMEZONE
BEGIN:VEVENT
UID:095be426-00fd-4280-97de-77f948b85429
DTSTAMP:20260421T175657Z
DESCRIPTION:
DTSTART;TZID=America/Chicago:20271231T000000
DTEND;TZID=America/Chicago:20271231T235900
LOCATION:
SUMMARY:NFAPA Office Closed
END:VEVENT
END:VCALENDAR
