BEGIN:VCALENDAR
VERSION:2.0
PRODID:-//nfapa.org//NONSGML kigkonsult.se iCalcreator 2.30.10//
CALSCALE:GREGORIAN
METHOD:PUBLISH
UID:0d298ddb-d63e-4cd1-9767-e9e2512b1e32
X-WR-CALDESC:This is a closed chat for current foster parents or adoptive p
 arents only.  \nYou must have a Facebook account.\nContact Robbi for furth
 er information.
X-WR-RELCALID:4106ef28bc6cd6396c85d793ab2d7c38
X-WR-TIMEZONE:America/Chicago
BEGIN:VTIMEZONE
TZID:America/Chicago
BEGIN:STANDARD
TZNAME:CST
DTSTART:20271107T020000
TZOFFSETFROM:-0500
TZOFFSETTO:-0600
RDATE:20281105T020000
END:STANDARD
BEGIN:DAYLIGHT
TZNAME:CDT
DTSTART:20280312T020000
TZOFFSETFROM:-0600
TZOFFSETTO:-0500
RDATE:20290311T020000
END:DAYLIGHT
END:VTIMEZONE
BEGIN:VEVENT
UID:aa11409e-fa0d-44af-aeb3-a39af6c9f34a
DTSTAMP:20260421T222235Z
DESCRIPTION:This is a closed chat for current foster parents or adoptive pa
 rents only.  \nYou must have a Facebook account.\nContact Robbi for furthe
 r information.
DTSTART;TZID=America/Chicago:20280321T210000
DTEND;TZID=America/Chicago:20280321T220000
LOCATION:
SUMMARY:FACES:  Online Foster Parent Support Group Chat on Facebook
END:VEVENT
END:VCALENDAR
