BEGIN:VCALENDAR
VERSION:2.0
PRODID:-//nfapa.org//NONSGML kigkonsult.se iCalcreator 2.30.10//
CALSCALE:GREGORIAN
METHOD:PUBLISH
UID:f083db93-3353-4e42-96e9-8858dae2c69b
X-WR-CALDESC:This is a closed chat for current foster parents or adoptive p
 arents only.  \nYou must have a Facebook account.\nContact Robbi for furth
 er information.
X-WR-RELCALID:1fd32d4f889b22dfb948c8ecbccf17e1
X-WR-TIMEZONE:America/Chicago
BEGIN:VTIMEZONE
TZID:America/Chicago
BEGIN:STANDARD
TZNAME:CST
DTSTART:20271107T020000
TZOFFSETFROM:-0500
TZOFFSETTO:-0600
RDATE:20281105T020000
RDATE:20291104T020000
END:STANDARD
BEGIN:DAYLIGHT
TZNAME:CDT
DTSTART:20280312T020000
TZOFFSETFROM:-0600
TZOFFSETTO:-0500
RDATE:20290311T020000
END:DAYLIGHT
END:VTIMEZONE
BEGIN:VEVENT
UID:a904fbb4-bf38-4508-8612-a88363435acc
DTSTAMP:20260422T013101Z
DESCRIPTION:This is a closed chat for current foster parents or adoptive pa
 rents only.  \nYou must have a Facebook account.\nContact Robbi for furthe
 r information.
DTSTART;TZID=America/Chicago:20280523T210000
DTEND;TZID=America/Chicago:20280523T220000
LOCATION:
SUMMARY:FACES:  Online Foster Parent Support Group Chat on Facebook
END:VEVENT
END:VCALENDAR
