BEGIN:VCALENDAR
VERSION:2.0
PRODID:-//nfapa.org//NONSGML kigkonsult.se iCalcreator 2.30.10//
CALSCALE:GREGORIAN
METHOD:PUBLISH
UID:c7171b2d-9e81-4ae4-8cfb-0a8380fda8f9
X-WR-CALDESC:This is a closed chat for current foster parents or adoptive p
 arents only.  \nYou must have a Facebook account.\nContact Robbi for furth
 er information.
X-WR-RELCALID:23a8044016d112b9e87a45fc94dc0d6f
X-WR-TIMEZONE:America/Chicago
BEGIN:VTIMEZONE
TZID:America/Chicago
BEGIN:STANDARD
TZNAME:CST
DTSTART:20271107T020000
TZOFFSETFROM:-0500
TZOFFSETTO:-0600
RDATE:20281105T020000
RDATE:20291104T020000
END:STANDARD
BEGIN:DAYLIGHT
TZNAME:CDT
DTSTART:20280312T020000
TZOFFSETFROM:-0600
TZOFFSETTO:-0500
RDATE:20290311T020000
END:DAYLIGHT
END:VTIMEZONE
BEGIN:VEVENT
UID:bf45e7ca-1e36-4c80-9c57-8e6ebf1d8662
DTSTAMP:20260422T042910Z
DESCRIPTION:This is a closed chat for current foster parents or adoptive pa
 rents only.  \nYou must have a Facebook account.\nContact Robbi for furthe
 r information.
DTSTART;TZID=America/Chicago:20280718T210000
DTEND;TZID=America/Chicago:20280718T220000
LOCATION:
SUMMARY:FACES:  Online Foster Parent Support Group Chat on Facebook
END:VEVENT
END:VCALENDAR
