BEGIN:VCALENDAR
VERSION:2.0
PRODID:-//nfapa.org//NONSGML kigkonsult.se iCalcreator 2.30.10//
CALSCALE:GREGORIAN
METHOD:PUBLISH
UID:1682a9e1-0227-483d-8f69-df3305da23dd
X-WR-CALDESC:NFAPA is closing out their Kits for Kids program.  Foster fami
 lies are welcome to stop in and pick-up any of the remaining items.  First
  come\, first serve.  \nApril 24\, 2026:  Noon-6:00 pm\nApril 25\, 2026:  
 8:00 am-2:00 pm\n\nBlankets\, backpacks\, school supplies\, personal care 
 items\, baby items and a few small toys.
X-WR-RELCALID:9f71c9920ceea14778664b366d49c4dc
X-WR-TIMEZONE:America/Chicago
BEGIN:VTIMEZONE
TZID:America/Chicago
BEGIN:STANDARD
TZNAME:CST
DTSTART:20251102T020000
TZOFFSETFROM:-0500
TZOFFSETTO:-0600
RDATE:20261101T020000
END:STANDARD
BEGIN:DAYLIGHT
TZNAME:CDT
DTSTART:20260308T020000
TZOFFSETFROM:-0600
TZOFFSETTO:-0500
RDATE:20270314T020000
END:DAYLIGHT
END:VTIMEZONE
BEGIN:VEVENT
UID:c840cbcc-30fc-48ba-9463-79674d4def71
DTSTAMP:20260420T115910Z
DESCRIPTION:NFAPA is closing out their Kits for Kids program.  Foster famil
 ies are welcome to stop in and pick-up any of the remaining items.  First 
 come\, first serve.  \nApril 24\, 2026:  Noon-6:00 pm\nApril 25\, 2026:  8
 :00 am-2:00 pm\n\nBlankets\, backpacks\, school supplies\, personal care i
 tems\, baby items and a few small toys.
DTSTART;TZID=America/Chicago:20260424T120000
DTEND;TZID=America/Chicago:20260424T180000
LOCATION:3601 N 25th Street\, Suite D\, Lincoln\, NE 68521 US
SUMMARY:NFAPA Open House
END:VEVENT
END:VCALENDAR
